BEGIN:VCALENDAR
VERSION:2.0
PRODID:-//Job Junction - ECPv6.15.20//NONSGML v1.0//EN
CALSCALE:GREGORIAN
METHOD:PUBLISH
X-ORIGINAL-URL:https://jobjunction.ca
X-WR-CALDESC:Events for Job Junction
REFRESH-INTERVAL;VALUE=DURATION:PT1H
X-Robots-Tag:noindex
X-PUBLISHED-TTL:PT1H
BEGIN:VTIMEZONE
TZID:UTC
BEGIN:STANDARD
TZOFFSETFROM:+0000
TZOFFSETTO:+0000
TZNAME:UTC
DTSTART:20250101T000000
END:STANDARD
END:VTIMEZONE
BEGIN:VEVENT
DTSTART;TZID=UTC:20260424T130000
DTEND;TZID=UTC:20260424T150000
DTSTAMP:20260421T014038
CREATED:20260420T194927Z
LAST-MODIFIED:20260420T194929Z
UID:10000790-1777035600-1777042800@jobjunction.ca
SUMMARY:Resume & Cover Letter Essentials for Newcomers
DESCRIPTION:Offsite Sessions\n\n\n\n\n\nPreparing for interviews can be one of the most challenging parts of the job search\, especially in a new environment. In this session\, newcomers will learn how to confidently navigate Canadian-style interviews\, understand common interview formats and questions\, and effectively communicate their skills and experience. \n\n\n\nGain practical techniques to make a strong first impression and leave employers with a lasting\, positive image. Drop in\, no registration needed.
URL:https://jobjunction.ca/event/resume-cover-letter-essentials-for-newcomers/
LOCATION:Captain William Spry Public Library\, 16 Sussex Street\, Halifax\, NS\, B3R 1N9\, Canada
CATEGORIES:Offsite Events
ATTACH;FMTTYPE=image/png:https://jobjunction.ca/wp-content/uploads/2026/01/Interviewing-newcomers-website.png
ORGANIZER;CN="Job Junction":MAILTO:contact@jobjunction.ca
END:VEVENT
BEGIN:VEVENT
DTSTART;TZID=UTC:20260508T130000
DTEND;TZID=UTC:20260508T150000
DTSTAMP:20260421T014038
CREATED:20260420T130427Z
LAST-MODIFIED:20260420T200024Z
UID:10000762-1778245200-1778252400@jobjunction.ca
SUMMARY:Networking for Newcomers Part I
DESCRIPTION:Offsite Sessions\n\n\n\n\n\nBuilding connections is an important step in starting a successful career in Canada. In this first session of our two-part series\, newcomers will learn the fundamentals of networking\, including how to introduce themselves with confidence\, build meaningful professional relationships\, and access opportunities through the hidden job market. \n\n\n\nParticipants will gain practical strategies they can apply right away\, helping them take the first steps toward expanding their professional network in Canada.
URL:https://jobjunction.ca/event/networking-for-newcomers-part-i-2/
LOCATION:Captain William Spry Public Library\, 16 Sussex Street\, Halifax\, NS\, B3R 1N9\, Canada
CATEGORIES:Offsite Events
ORGANIZER;CN="Job Junction":MAILTO:contact@jobjunction.ca
END:VEVENT
BEGIN:VEVENT
DTSTART;TZID=UTC:20260522T130000
DTEND;TZID=UTC:20260522T150000
DTSTAMP:20260421T014038
CREATED:20260420T130619Z
LAST-MODIFIED:20260420T200118Z
UID:10000763-1779454800-1779462000@jobjunction.ca
SUMMARY:Networking for Newcomers Part II
DESCRIPTION:Offsite Sessions\n\n\n\n\n\nBuilding connections is an important step in starting a successful career in Canada. In this first session of our two-part series\, newcomers will learn the fundamentals of networking\, including how to introduce themselves with confidence\, build meaningful professional relationships\, and access opportunities through the hidden job market. \n\n\n\nParticipants will gain practical strategies they can apply right away\, helping them take the first steps toward expanding their professional network in Canada.
URL:https://jobjunction.ca/event/networking-for-newcomers-part-ii-2/
LOCATION:Captain William Spry Public Library\, 16 Sussex Street\, Halifax\, NS\, B3R 1N9\, Canada
CATEGORIES:Offsite Events
ORGANIZER;CN="Job Junction":MAILTO:contact@jobjunction.ca
END:VEVENT
END:VCALENDAR