BEGIN:VCALENDAR
VERSION:2.0
PRODID:-//Job Junction - ECPv6.15.20//NONSGML v1.0//EN
CALSCALE:GREGORIAN
METHOD:PUBLISH
X-ORIGINAL-URL:https://jobjunction.ca
X-WR-CALDESC:Events for Job Junction
REFRESH-INTERVAL;VALUE=DURATION:PT1H
X-Robots-Tag:noindex
X-PUBLISHED-TTL:PT1H
BEGIN:VTIMEZONE
TZID:UTC
BEGIN:STANDARD
TZOFFSETFROM:+0000
TZOFFSETTO:+0000
TZNAME:UTC
DTSTART:20250101T000000
END:STANDARD
END:VTIMEZONE
BEGIN:VEVENT
DTSTART;TZID=UTC:20260410T130000
DTEND;TZID=UTC:20260410T150000
DTSTAMP:20260421T033522
CREATED:20260420T194759Z
LAST-MODIFIED:20260420T194802Z
UID:10000789-1775826000-1775833200@jobjunction.ca
SUMMARY:Job Search Essentials for Newcomers
DESCRIPTION:Offsite Sessions\n\n\n\n\n\nThis two-hour workshop supports newcomers in navigating the Canadian job market. Learn practical strategies tailored to the unique challenges and strengths of internationally trained job seekers. Leave with clear next steps\, useful resources\, and greater confidence in your job search journey. Come to the Job Junction Job Search Essentials for Newcomers at the Captain William Spry Public Library in Spryfield. The session is drop-in\, so no need to sign up!
URL:https://jobjunction.ca/event/job-search-essentials-for-newcomers-3/
LOCATION:Captain William Spry Public Library\, 16 Sussex Street\, Halifax\, NS\, B3R 1N9\, Canada
CATEGORIES:Offsite Events
ATTACH;FMTTYPE=image/png:https://jobjunction.ca/wp-content/uploads/2026/01/Job-Search-newcomers-website.png
ORGANIZER;CN="Job Junction":MAILTO:contact@jobjunction.ca
END:VEVENT
END:VCALENDAR