BEGIN:VCALENDAR
VERSION:2.0
PRODID:-//Job Junction - ECPv6.15.20//NONSGML v1.0//EN
CALSCALE:GREGORIAN
METHOD:PUBLISH
X-ORIGINAL-URL:https://jobjunction.ca
X-WR-CALDESC:Events for Job Junction
REFRESH-INTERVAL;VALUE=DURATION:PT1H
X-Robots-Tag:noindex
X-PUBLISHED-TTL:PT1H
BEGIN:VTIMEZONE
TZID:UTC
BEGIN:STANDARD
TZOFFSETFROM:+0000
TZOFFSETTO:+0000
TZNAME:UTC
DTSTART:20240101T000000
END:STANDARD
END:VTIMEZONE
BEGIN:VEVENT
DTSTART;TZID=UTC:20251028T090000
DTEND;TZID=UTC:20251028T160000
DTSTAMP:20260420T185249
CREATED:20250923T191936Z
LAST-MODIFIED:20250923T191939Z
UID:10000504-1761642000-1761667200@jobjunction.ca
SUMMARY:Resume Writing
DESCRIPTION:Hybrid Workshop\n\n\n\n\n\nThe Resume Writing workshop will give you the opportunity to brush up on the trends in resume theory\, analyze job postings for better tailoring/customization and explore ways you can better market yourself to employers. After completion of this full-day workshop\, you will get an opportunity to book a 1-on-1 follow-up session with an experienced facilitator to receive personalized feedback about your resume. Participants must bring a sample job posting to this workshop. \n\n\n\nClick here to inquire about signing up.
URL:https://jobjunction.ca/event/resume-writing-60/
LOCATION:Job Junction Resource Centre\, 6950 Mumford Road\, Halifax\, Canada
CATEGORIES:Hybrid Workshop
ATTACH;FMTTYPE=image/png:https://jobjunction.ca/wp-content/uploads/2024/01/Resume-Calendar-Graphic.png
ORGANIZER;CN="Job Junction":MAILTO:contact@jobjunction.ca
END:VEVENT
BEGIN:VEVENT
DTSTART;TZID=UTC:20251029T100000
DTEND;TZID=UTC:20251029T120000
DTSTAMP:20260420T185249
CREATED:20250924T123423Z
LAST-MODIFIED:20250924T123426Z
UID:10000517-1761732000-1761739200@jobjunction.ca
SUMMARY:Networking for Newcomers Part II
DESCRIPTION:Offsite Sessions\n\n\n\n\n\nBuilding connections is an important step in starting a successful career in Canada. In this first session of our two-part series\, newcomers will learn the fundamentals of networking\, including how to introduce themselves with confidence\, build meaningful professional relationships\, and access opportunities through the hidden job market. \n\n\n\nParticipants will gain practical strategies they can apply right away\, helping them take the first steps toward expanding their professional network in Canada.
URL:https://jobjunction.ca/event/networking-for-newcomers-part-ii/
LOCATION:Keshen Goodman Public Library\, 330 Lacewood Drive\, Halifax\, B3S 0A3\, Canada
CATEGORIES:Offsite Events
ORGANIZER;CN="Job Junction":MAILTO:contact@jobjunction.ca
END:VEVENT
BEGIN:VEVENT
DTSTART;TZID=UTC:20251030T090000
DTEND;TZID=UTC:20251031T160000
DTSTAMP:20260420T185249
CREATED:20250923T191639Z
LAST-MODIFIED:20250923T191642Z
UID:10000501-1761814800-1761926400@jobjunction.ca
SUMMARY:Hidden Job Market
DESCRIPTION:Hybrid Workshop\n\n\n\n\n\nStatistics show that only about 15% to 20% of jobs available in Nova Scotia are openly advertised. If you are struggling to break into this market\, you will want to expand your job search into the remaining 80% to 85%\, commonly referred to as the Hidden Job Market. This two-day workshop explores why the Hidden Job Market exists\, and how effective networking strategies can help you unlock those opportunities. \n\n\n\nClick here to inquire about signing up.
URL:https://jobjunction.ca/event/hidden-job-market-44/
LOCATION:Job Junction Resource Centre\, 6950 Mumford Road\, Halifax\, Canada
CATEGORIES:Hybrid Workshop
ATTACH;FMTTYPE=image/png:https://jobjunction.ca/wp-content/uploads/2024/01/Hidden-Job-Market-Calendar-Graphic.png
ORGANIZER;CN="Job Junction":MAILTO:contact@jobjunction.ca
END:VEVENT
END:VCALENDAR