BEGIN:VCALENDAR
VERSION:2.0
PRODID:-//Job Junction - ECPv6.15.20//NONSGML v1.0//EN
CALSCALE:GREGORIAN
METHOD:PUBLISH
X-WR-CALNAME:Job Junction
X-ORIGINAL-URL:https://jobjunction.ca
X-WR-CALDESC:Events for Job Junction
REFRESH-INTERVAL;VALUE=DURATION:PT1H
X-Robots-Tag:noindex
X-PUBLISHED-TTL:PT1H
BEGIN:VTIMEZONE
TZID:UTC
BEGIN:STANDARD
TZOFFSETFROM:+0000
TZOFFSETTO:+0000
TZNAME:UTC
DTSTART:20240101T000000
END:STANDARD
END:VTIMEZONE
BEGIN:VEVENT
DTSTART;TZID=UTC:20250630T130000
DTEND;TZID=UTC:20250630T160000
DTSTAMP:20260420T154339
CREATED:20250513T173123Z
LAST-MODIFIED:20250513T173128Z
UID:10000414-1751288400-1751299200@jobjunction.ca
SUMMARY:Computer Basics
DESCRIPTION:Program\, In-Person\n\n\n\n\n\nNeed a tune-up or a complete skill-up of your computer skills? \n\n\n\nThis in-person workshop covers absolute essential computer basics\, from the hardware of the laptop\, operating the desktop and overall device settings to connecting to and accessing the internet\, going on job search engines. \n\n\n\n \n\n\n\nClick here to inquire about signing up.
URL:https://jobjunction.ca/event/computer-basics-5/
LOCATION:Job Junction Resource Centre\, 6950 Mumford Road\, Halifax\, Canada
CATEGORIES:Workshop (In Person)
ATTACH;FMTTYPE=image/png:https://jobjunction.ca/wp-content/uploads/2024/01/Computer-Essentials-Calendar-Graphic.png
ORGANIZER;CN="Job Junction":MAILTO:contact@jobjunction.ca
END:VEVENT
BEGIN:VEVENT
DTSTART;TZID=UTC:20250701T083000
DTEND;TZID=UTC:20250701T163000
DTSTAMP:20260420T154339
CREATED:20250612T135517Z
LAST-MODIFIED:20250612T135521Z
UID:10000424-1751358600-1751387400@jobjunction.ca
SUMMARY:Canada Day - Job Junction is Closed
DESCRIPTION:Holidays/Closures\n\n\n\n\n\nJob Junction will be closed on Tuesday\, July 1st for Canada Day. We will reopen Wednesday\, July 2nd at 8:30 am.
URL:https://jobjunction.ca/event/canada-day-job-junction-is-closed/
LOCATION:Job Junction Resource Centre\, 6950 Mumford Road\, Halifax\, Canada
CATEGORIES:Closures
ATTACH;FMTTYPE=image/png:https://jobjunction.ca/wp-content/uploads/2024/01/Job-Junction-Closed-Calendar-Graphic.png
ORGANIZER;CN="Job Junction":MAILTO:contact@jobjunction.ca
END:VEVENT
BEGIN:VEVENT
DTSTART;TZID=UTC:20250702T090000
DTEND;TZID=UTC:20250702T160000
DTSTAMP:20260420T154339
CREATED:20250623T162505Z
LAST-MODIFIED:20250623T162626Z
UID:10000427-1751446800-1751472000@jobjunction.ca
SUMMARY:Career Planning
DESCRIPTION:Hybrid Workshop\n\n\n\n\n\nCareer planning is an ongoing process that we all undergo as our personal vision changes throughout our lifetime. Throughout the course of this full day workshop\, you will be guided through a variety of assessments\, discussions and explorations that will help kickstart your career decision making process. Virtual participants are recommended to join from a laptop for the best possible experience.  \n\n\n\nClick here to inquire about signing up.
URL:https://jobjunction.ca/event/career-planning-21/
LOCATION:Job Junction Resource Centre\, 6950 Mumford Road\, Halifax\, Canada
CATEGORIES:Hybrid Workshop
ATTACH;FMTTYPE=image/png:https://jobjunction.ca/wp-content/uploads/2024/01/Career-Planning-Calendar-Graphic.png
ORGANIZER;CN="Job Junction":MAILTO:contact@jobjunction.ca
END:VEVENT
BEGIN:VEVENT
DTSTART;TZID=UTC:20250702T130000
DTEND;TZID=UTC:20250702T140000
DTSTAMP:20260420T154339
CREATED:20250623T162836Z
LAST-MODIFIED:20250623T162839Z
UID:10000428-1751461200-1751464800@jobjunction.ca
SUMMARY:Skills Development Program
DESCRIPTION:Webinar\n\n\n\n\n\nThe SD Program provides financial assistance to eligible individuals\, helping them obtain the skills training they need to find new employment. Participants in this webinar will receive the opportunity to learn about requirements\, eligibility\, and the application process. \n\n\n\nClick here to inquire about signing up.
URL:https://jobjunction.ca/event/skills-development-program-44/
CATEGORIES:Webinar/Info Session
ATTACH;FMTTYPE=image/png:https://jobjunction.ca/wp-content/uploads/2024/01/Skills-Development-Calendar-Graphic.png
ORGANIZER;CN="Job Junction":MAILTO:contact@jobjunction.ca
END:VEVENT
BEGIN:VEVENT
DTSTART;TZID=UTC:20250702T130000
DTEND;TZID=UTC:20250702T160000
DTSTAMP:20260420T154339
CREATED:20250514T171823Z
LAST-MODIFIED:20250612T134340Z
UID:10000415-1751461200-1751472000@jobjunction.ca
SUMMARY:Outlook & Gmail for Your Job Search
DESCRIPTION:Program\, In-Person\n\n\n\n\n\nNeed a tune-up or a complete skill-up of your computer skills? \n\n\n\nGet exactly what you need with Job Junction in our small\, inclusive\, in-person workshops. Workshops include Computer Basics – June 30\, Outlook and Gmail for Your Job Search – July 1\, MS Word for Your Job Search – July 2\, MS Excel for Your Job Search – July 3\, and Digital Literacy – July 4. Sign up for one or all days! \n\n\n\n \n\n\n\nClick here to inquire about signing up.
URL:https://jobjunction.ca/event/outlook-gmail-for-your-job-search/
LOCATION:Job Junction Resource Centre\, 6950 Mumford Road\, Halifax\, Canada
CATEGORIES:Workshop (In Person)
ATTACH;FMTTYPE=image/png:https://jobjunction.ca/wp-content/uploads/2024/01/Computer-Essentials-Calendar-Graphic.png
ORGANIZER;CN="Job Junction":MAILTO:contact@jobjunction.ca
END:VEVENT
BEGIN:VEVENT
DTSTART;TZID=UTC:20250703T090000
DTEND;TZID=UTC:20250703T120000
DTSTAMP:20260420T154339
CREATED:20250514T192003Z
LAST-MODIFIED:20250612T134444Z
UID:10000417-1751533200-1751544000@jobjunction.ca
SUMMARY:MS Word for Your Job Search
DESCRIPTION:Program\, In-Person\n\n\n\n\n\nNeed a tune-up or a complete skill-up of your computer skills? \n\n\n\nMicrosoft Word is not only a great application for creating many types of documents\, but also for creating job search documents like Resumes\, Cover Letters\, and Reference Lists. In this workshop\, we will go over all the required skills and techniques in Word needed to be able to create effective job search documents\, focusing on Resumes and Cover Letters. \n\n\n\n \n\n\n\nClick here to inquire about signing up.
URL:https://jobjunction.ca/event/ms-word-for-your-job-search-4/
LOCATION:Job Junction Resource Centre\, 6950 Mumford Road\, Halifax\, Canada
CATEGORIES:Workshop (In Person)
ATTACH;FMTTYPE=image/png:https://jobjunction.ca/wp-content/uploads/2024/01/Computer-Essentials-Calendar-Graphic.png
ORGANIZER;CN="Job Junction":MAILTO:contact@jobjunction.ca
END:VEVENT
BEGIN:VEVENT
DTSTART;TZID=UTC:20250703T090000
DTEND;TZID=UTC:20250704T160000
DTSTAMP:20260420T154339
CREATED:20250623T163820Z
LAST-MODIFIED:20250623T163822Z
UID:10000429-1751533200-1751644800@jobjunction.ca
SUMMARY:Ace the Interview
DESCRIPTION:Hybrid Workshop\n\n\n\n\n\nThis two-day workshop will give insights into the approaches and techniques that you can use to prepare for and ace your next job interview. By the end of the workshop\, participants will be given the opportunity to conduct a mock interview and receive immediate feedback. Participants are asked to bring a sample job posting to this workshop. \n\n\n\nClick here to inquire about signing up.
URL:https://jobjunction.ca/event/ace-the-interview-35/
LOCATION:Job Junction Resource Centre\, 6950 Mumford Road\, Halifax\, Canada
CATEGORIES:Hybrid Workshop
ATTACH;FMTTYPE=image/png:https://jobjunction.ca/wp-content/uploads/2024/01/Ace-The-Interview-Calendar-Graphic.png
ORGANIZER;CN="Job Junction":MAILTO:contact@jobjunction.ca
END:VEVENT
BEGIN:VEVENT
DTSTART;TZID=UTC:20250703T130000
DTEND;TZID=UTC:20250703T160000
DTSTAMP:20260420T154339
CREATED:20250514T191616Z
LAST-MODIFIED:20250514T191618Z
UID:10000416-1751547600-1751558400@jobjunction.ca
SUMMARY:MS Excel for your Job Search
DESCRIPTION:Program\, In-Person\n\n\n\n\n\nNeed a tune-up or a complete skill-up of your computer skills? \n\n\n\nMicrosoft Excel is a full-featured program that creates spreadsheets for data entry\, storage and manipulation. It enables the user to produce professional quality spreadsheets to track data or perform a variety of analyses. This workshop teaches the basics of Microsoft Excel to give you a better understanding of how it works\, so that you can begin using it for your job search by creating a job search log to keep track of when\, how\, and who you have applied to in the job search process. \n\n\n\n \n\n\n\nClick here to inquire about signing up.
URL:https://jobjunction.ca/event/ms-excel-for-your-job-search-4/
LOCATION:Job Junction Resource Centre\, 6950 Mumford Road\, Halifax\, Canada
CATEGORIES:Workshop (In Person)
ATTACH;FMTTYPE=image/png:https://jobjunction.ca/wp-content/uploads/2024/01/Computer-Essentials-Calendar-Graphic.png
ORGANIZER;CN="Job Junction":MAILTO:contact@jobjunction.ca
END:VEVENT
BEGIN:VEVENT
DTSTART;TZID=UTC:20250704T130000
DTEND;TZID=UTC:20250704T160000
DTSTAMP:20260420T154339
CREATED:20250514T192217Z
LAST-MODIFIED:20250514T192219Z
UID:10000418-1751634000-1751644800@jobjunction.ca
SUMMARY:Digital Literacy
DESCRIPTION:Program\, In-Person\n\n\n\n\n\nNeed a tune-up or a complete skill-up of your computer skills? \n\n\n\nClients will learn how to use Zoom and MS Teams\, create profiles\, arrange meetings and practice attending online sessions preparing for remote work and/or attending virtual interviews. Clients will also learn about privacy and safety on the internet\, as well as avoiding scams. \n\n\n\n \n\n\n\nClick here to inquire about signing up.
URL:https://jobjunction.ca/event/digital-literacy-4/
LOCATION:Job Junction Resource Centre\, 6950 Mumford Road\, Halifax\, Canada
CATEGORIES:Workshop (In Person)
ATTACH;FMTTYPE=image/png:https://jobjunction.ca/wp-content/uploads/2024/01/Computer-Essentials-Calendar-Graphic.png
ORGANIZER;CN="Job Junction":MAILTO:contact@jobjunction.ca
END:VEVENT
END:VCALENDAR