BEGIN:VCALENDAR
VERSION:2.0
PRODID:-//Job Junction - ECPv6.15.20//NONSGML v1.0//EN
CALSCALE:GREGORIAN
METHOD:PUBLISH
X-ORIGINAL-URL:https://jobjunction.ca
X-WR-CALDESC:Events for Job Junction
REFRESH-INTERVAL;VALUE=DURATION:PT1H
X-Robots-Tag:noindex
X-PUBLISHED-TTL:PT1H
BEGIN:VTIMEZONE
TZID:UTC
BEGIN:STANDARD
TZOFFSETFROM:+0000
TZOFFSETTO:+0000
TZNAME:UTC
DTSTART:20240101T000000
END:STANDARD
END:VTIMEZONE
BEGIN:VEVENT
DTSTART;TZID=UTC:20250603T090000
DTEND;TZID=UTC:20250603T160000
DTSTAMP:20260420T171640
CREATED:20250513T171047Z
LAST-MODIFIED:20250513T171052Z
UID:10000398-1748941200-1748966400@jobjunction.ca
SUMMARY:Resume Writing
DESCRIPTION:Hybrid Workshop\n\n\n\n\n\nThe Resume Writing workshop will give you the opportunity to brush up on the trends in resume theory\, analyze job postings for better tailoring/customization and explore ways you can better market yourself to employers. After completion of this full-day workshop\, you will get an opportunity to book a 1-on-1 follow-up session with an experienced facilitator to receive personalized feedback about your resume. Participants must bring a sample job posting to this workshop. \n\n\n\nClick here to inquire about signing up.
URL:https://jobjunction.ca/event/resume-writing-42/
LOCATION:Job Junction Resource Centre\, 6950 Mumford Road\, Halifax\, Canada
CATEGORIES:Hybrid Workshop
ATTACH;FMTTYPE=image/png:https://jobjunction.ca/wp-content/uploads/2024/01/Resume-Calendar-Graphic.png
ORGANIZER;CN="Job Junction":MAILTO:contact@jobjunction.ca
END:VEVENT
BEGIN:VEVENT
DTSTART;TZID=UTC:20250604T090000
DTEND;TZID=UTC:20250604T160000
DTSTAMP:20260420T171640
CREATED:20250513T171148Z
LAST-MODIFIED:20250513T171151Z
UID:10000399-1749027600-1749052800@jobjunction.ca
SUMMARY:Career Planning
DESCRIPTION:Hybrid Workshop\n\n\n\n\n\nCareer planning is an ongoing process that we all undergo as our personal vision changes throughout our lifetime. Throughout the course of this full day workshop\, you will be guided through a variety of assessments\, discussions and explorations that will help kickstart your career decision making process. Virtual participants are recommended to join from a laptop for the best possible experience.  \n\n\n\nClick here to inquire about signing up.
URL:https://jobjunction.ca/event/career-planning-20/
LOCATION:Job Junction Resource Centre\, 6950 Mumford Road\, Halifax\, Canada
CATEGORIES:Hybrid Workshop
ATTACH;FMTTYPE=image/png:https://jobjunction.ca/wp-content/uploads/2024/01/Career-Planning-Calendar-Graphic.png
ORGANIZER;CN="Job Junction":MAILTO:contact@jobjunction.ca
END:VEVENT
BEGIN:VEVENT
DTSTART;TZID=UTC:20250604T130000
DTEND;TZID=UTC:20250604T140000
DTSTAMP:20260420T171640
CREATED:20250513T171216Z
LAST-MODIFIED:20250513T171220Z
UID:10000400-1749042000-1749045600@jobjunction.ca
SUMMARY:Skills Development Program
DESCRIPTION:Webinar\n\n\n\n\n\nThe SD Program provides financial assistance to eligible individuals\, helping them obtain the skills training they need to find new employment. Participants in this webinar will receive the opportunity to learn about requirements\, eligibility\, and the application process. \n\n\n\nClick here to inquire about signing up.
URL:https://jobjunction.ca/event/skills-development-program-42/
CATEGORIES:Webinar/Info Session
ATTACH;FMTTYPE=image/png:https://jobjunction.ca/wp-content/uploads/2024/01/Skills-Development-Calendar-Graphic.png
ORGANIZER;CN="Job Junction":MAILTO:contact@jobjunction.ca
END:VEVENT
BEGIN:VEVENT
DTSTART;TZID=UTC:20250605T090000
DTEND;TZID=UTC:20250606T160000
DTSTAMP:20260420T171640
CREATED:20250513T171301Z
LAST-MODIFIED:20250513T171304Z
UID:10000401-1749114000-1749225600@jobjunction.ca
SUMMARY:Ace the Interview
DESCRIPTION:Hybrid Workshop\n\n\n\n\n\nThis two-day workshop will give insights into the approaches and techniques that you can use to prepare for and ace your next job interview. By the end of the workshop\, participants will be given the opportunity to conduct a mock interview and receive immediate feedback. Participants are asked to bring a sample job posting to this workshop. \n\n\n\nClick here to inquire about signing up.
URL:https://jobjunction.ca/event/ace-the-interview-33/
LOCATION:Job Junction Resource Centre\, 6950 Mumford Road\, Halifax\, Canada
CATEGORIES:Hybrid Workshop
ATTACH;FMTTYPE=image/png:https://jobjunction.ca/wp-content/uploads/2024/01/Ace-The-Interview-Calendar-Graphic.png
ORGANIZER;CN="Job Junction":MAILTO:contact@jobjunction.ca
END:VEVENT
END:VCALENDAR