BEGIN:VCALENDAR
VERSION:2.0
PRODID:-//Job Junction - ECPv6.15.20//NONSGML v1.0//EN
CALSCALE:GREGORIAN
METHOD:PUBLISH
X-ORIGINAL-URL:https://jobjunction.ca
X-WR-CALDESC:Events for Job Junction
REFRESH-INTERVAL;VALUE=DURATION:PT1H
X-Robots-Tag:noindex
X-PUBLISHED-TTL:PT1H
BEGIN:VTIMEZONE
TZID:UTC
BEGIN:STANDARD
TZOFFSETFROM:+0000
TZOFFSETTO:+0000
TZNAME:UTC
DTSTART:20230101T000000
END:STANDARD
END:VTIMEZONE
BEGIN:VEVENT
DTSTART;TZID=UTC:20240521T090000
DTEND;TZID=UTC:20240621T160000
DTSTAMP:20260420T092051
CREATED:20240419T171730Z
LAST-MODIFIED:20240606T161032Z
UID:10000076-1716282000-1718985600@jobjunction.ca
SUMMARY:OWL (Older Wiser Labourforce)
DESCRIPTION:Program\, Hybrid\n\n\n\n\n\nOWL is a 5-week employment readiness / job search workshop designed to assist mature job seekers 45+ who are returning to workplace\, searching for a new job or career options.
URL:https://jobjunction.ca/event/owl-older-wiser-labourforce-2/
LOCATION:Job Junction Resource Centre\, 6950 Mumford Road\, Halifax\, Canada
CATEGORIES:Programs
ATTACH;FMTTYPE=image/png:https://jobjunction.ca/wp-content/uploads/2024/01/OWL-Calendar-Graphic.png
ORGANIZER;CN="Job Junction":MAILTO:contact@jobjunction.ca
END:VEVENT
BEGIN:VEVENT
DTSTART;TZID=UTC:20240528T130000
DTEND;TZID=UTC:20240528T160000
DTSTAMP:20260420T092051
CREATED:20240419T175136Z
LAST-MODIFIED:20240419T175137Z
UID:10000080-1716901200-1716912000@jobjunction.ca
SUMMARY:Resume Toolkit
DESCRIPTION:Hybrid Workshop\n\n\n\n\n\nThis workshop will present the fundamentals of a successful résumé. You will leave this workshop with a better understanding of how to present your skills and qualifications on your résumé\, as well as which résumé format is best suited to marketing yourself to prospective employers.
URL:https://jobjunction.ca/event/resume-toolkit-5/
LOCATION:Job Junction Resource Centre\, 6950 Mumford Road\, Halifax\, Canada
CATEGORIES:Hybrid Workshop
ATTACH;FMTTYPE=image/png:https://jobjunction.ca/wp-content/uploads/2024/01/Resume-Calendar-Graphic.png
ORGANIZER;CN="Job Junction":MAILTO:contact@jobjunction.ca
END:VEVENT
BEGIN:VEVENT
DTSTART;TZID=UTC:20240529T130000
DTEND;TZID=UTC:20240529T140000
DTSTAMP:20260420T092051
CREATED:20240419T175402Z
LAST-MODIFIED:20240419T175404Z
UID:10000082-1716987600-1716991200@jobjunction.ca
SUMMARY:Skills Development Program
DESCRIPTION:Webinar\n\n\n\n\n\nThe SD Program provides financial assistance to eligible individuals\, helping them obtain the skills training they need to find new employment. Participants in this webinar will receive the opportunity to learn about requirements\, eligibility\, and the application process.
URL:https://jobjunction.ca/event/skills-development-program-14/
CATEGORIES:Webinar/Info Session
ATTACH;FMTTYPE=image/png:https://jobjunction.ca/wp-content/uploads/2024/01/Skills-Development-Calendar-Graphic.png
ORGANIZER;CN="Job Junction":MAILTO:contact@jobjunction.ca
END:VEVENT
BEGIN:VEVENT
DTSTART;TZID=UTC:20240530T090000
DTEND;TZID=UTC:20240531T160000
DTSTAMP:20260420T092051
CREATED:20240419T175435Z
LAST-MODIFIED:20240529T124731Z
UID:10000083-1717059600-1717171200@jobjunction.ca
SUMMARY:Hidden Job Market
DESCRIPTION:Hybrid Workshop\n \n \n \nStatistics show that only about 15% to 20% of jobs available in Nova Scotia are openly advertised. If you are struggling to break into this market\, you will want to expand your job search into the remaining 80% to 85%\, commonly referred to as the Hidden Job Market. This two-day workshop explores why the Hidden Job Market exists\, and how effective networking strategies can help you unlock those opportunities. \n \n \n \n \n \n 		\n			Click here to inquire about signing up.
URL:https://jobjunction.ca/event/hidden-job-market-9/
LOCATION:Job Junction Resource Centre\, 6950 Mumford Road\, Halifax\, Canada
CATEGORIES:Hybrid Workshop
ATTACH;FMTTYPE=image/png:https://jobjunction.ca/wp-content/uploads/2024/01/Hidden-Job-Market-Calendar-Graphic.png
ORGANIZER;CN="Job Junction":MAILTO:contact@jobjunction.ca
END:VEVENT
END:VCALENDAR