BEGIN:VCALENDAR
VERSION:2.0
PRODID:-//Job Junction - ECPv6.15.20//NONSGML v1.0//EN
CALSCALE:GREGORIAN
METHOD:PUBLISH
X-ORIGINAL-URL:https://jobjunction.ca
X-WR-CALDESC:Events for Job Junction
REFRESH-INTERVAL;VALUE=DURATION:PT1H
X-Robots-Tag:noindex
X-PUBLISHED-TTL:PT1H
BEGIN:VTIMEZONE
TZID:UTC
BEGIN:STANDARD
TZOFFSETFROM:+0000
TZOFFSETTO:+0000
TZNAME:UTC
DTSTART:20230101T000000
END:STANDARD
END:VTIMEZONE
BEGIN:VEVENT
DTSTART;TZID=UTC:20240325T090000
DTEND;TZID=UTC:20240426T160000
DTSTAMP:20260420T105604
CREATED:20240112T201722Z
LAST-MODIFIED:20240112T201723Z
UID:10000042-1711357200-1714147200@jobjunction.ca
SUMMARY:OWL (Older Wiser Labourforce)
DESCRIPTION:Program\, Hybrid\n\n\n\n\n\nOWL is a 5-week employment readiness / job search workshop designed to assist mature job seekers 45+ who are returning to workplace\, searching for a new job or career options.
URL:https://jobjunction.ca/event/owl-older-wiser-labourforce/
LOCATION:Job Junction Resource Centre\, 6950 Mumford Road\, Halifax\, Canada
CATEGORIES:Hybrid Workshop
ATTACH;FMTTYPE=image/png:https://jobjunction.ca/wp-content/uploads/2024/01/OWL-Calendar-Graphic.png
ORGANIZER;CN="Job Junction":MAILTO:contact@jobjunction.ca
END:VEVENT
BEGIN:VEVENT
DTSTART;TZID=UTC:20240408T090000
DTEND;TZID=UTC:20240408T160000
DTSTAMP:20260420T105604
CREATED:20240409T154918Z
LAST-MODIFIED:20240409T154919Z
UID:10000047-1712566800-1712592000@jobjunction.ca
SUMMARY:Resume Writing
DESCRIPTION:Hybrid Workshop\n\n\n\n\n\nThis workshop will give you the opportunity to brush up on the trends in resume theory\, analyze job postings for better tailoring/customization and explore ways you can better market yourself to employers. After completion of this full day workshop\, participants will get the opportunity to book a 1-on-1 follow up session with a facilitator to receive individualized feedback. Participants are asked to bring a sample job posting to this workshop.
URL:https://jobjunction.ca/event/resume-writing-4/
LOCATION:Job Junction Resource Centre\, 6950 Mumford Road\, Halifax\, Canada
CATEGORIES:Hybrid Workshop
ATTACH;FMTTYPE=image/png:https://jobjunction.ca/wp-content/uploads/2024/01/Resume-Calendar-Graphic.png
ORGANIZER;CN="Job Junction":MAILTO:contact@jobjunction.ca
END:VEVENT
BEGIN:VEVENT
DTSTART;TZID=UTC:20240409T100000
DTEND;TZID=UTC:20240409T233000
DTSTAMP:20260420T105604
CREATED:20240409T162640Z
LAST-MODIFIED:20240409T162642Z
UID:10000062-1712656800-1712705400@jobjunction.ca
SUMMARY:Job Fair Prep Sessions
DESCRIPTION:Hybrid Workshop\n\n\n\n\n\nGet ready for the HRM Spring Job Fair! Learn how to make the most of the two days. Join us to prepare for the best possible experience with Job Junction. \n\n\n\nWe offer 2 sessions: April 9th\, 10:00 am – 11:30 am and 1:00 pm – 2:30 pm. Choose to participate in person at Job Junction or virtually on Teams. The choice is yours. Call 902-455-9675 or email contact@jobjunction.ca to sign up today.
URL:https://jobjunction.ca/event/job-fair-prep-sessions/
LOCATION:Job Junction Resource Centre\, 6950 Mumford Road\, Halifax\, Canada
CATEGORIES:Hybrid Workshop
ORGANIZER;CN="Job Junction":MAILTO:contact@jobjunction.ca
END:VEVENT
BEGIN:VEVENT
DTSTART;TZID=UTC:20240409T130000
DTEND;TZID=UTC:20240409T143000
DTSTAMP:20260420T105604
CREATED:20240409T162724Z
LAST-MODIFIED:20240409T162725Z
UID:10000063-1712667600-1712673000@jobjunction.ca
SUMMARY:Job Fair Prep Sessions
DESCRIPTION:Hybrid Workshop\n\n\n\n\n\nGet ready for the HRM Spring Job Fair! Learn how to make the most of the two days. Join us to prepare for the best possible experience with Job Junction. \n\n\n\nWe offer 2 sessions: April 9th\, 10:00 am – 11:30 am and 1:00 pm – 2:30 pm. Choose to participate in person at Job Junction or virtually on Teams. The choice is yours. Call 902-455-9675 or email contact@jobjunction.ca to sign up today.
URL:https://jobjunction.ca/event/job-fair-prep-sessions-2/
LOCATION:Job Junction Resource Centre\, 6950 Mumford Road\, Halifax\, Canada
CATEGORIES:Hybrid Workshop
ORGANIZER;CN="Job Junction":MAILTO:contact@jobjunction.ca
END:VEVENT
BEGIN:VEVENT
DTSTART;TZID=UTC:20240410T130000
DTEND;TZID=UTC:20240410T140000
DTSTAMP:20260420T105604
CREATED:20240409T155027Z
LAST-MODIFIED:20240409T155028Z
UID:10000049-1712754000-1712757600@jobjunction.ca
SUMMARY:Skills Development Program
DESCRIPTION:Webinar\n\n\n\n\n\nThe SD Program provides financial assistance to eligible individuals\, helping them obtain the skills training they need to find new employment. Participants in this webinar will receive the opportunity to learn about requirements\, eligibility\, and the application process.
URL:https://jobjunction.ca/event/skills-development-program-9/
CATEGORIES:Webinar/Info Session
ATTACH;FMTTYPE=image/png:https://jobjunction.ca/wp-content/uploads/2024/01/Skills-Development-Calendar-Graphic.png
ORGANIZER;CN="Job Junction":MAILTO:contact@jobjunction.ca
END:VEVENT
BEGIN:VEVENT
DTSTART;TZID=UTC:20240410T140000
DTEND;TZID=UTC:20240410T160000
DTSTAMP:20260420T105604
CREATED:20240409T155009Z
LAST-MODIFIED:20240409T155010Z
UID:10000048-1712757600-1712764800@jobjunction.ca
SUMMARY:Job Search Club
DESCRIPTION:Offsite Sessions\n\n\n\n\n\nLooking for a job? Come to the Job Junction Job Search Club for job-search support\, including resume and interview assistance\, networking tips\, and much more. Our certified career development practitioners will be on hand to guide you in your job search at no cost! The sessions are drop-in\, so no need to sign up!
URL:https://jobjunction.ca/event/job-search-club-3/
LOCATION:Central Library\, 5440 Spring Garden Road\, Halifax\, Nova Scotia\, B3J 1E9\, Canada
CATEGORIES:Offsite Events
ORGANIZER;CN="Job Junction":MAILTO:contact@jobjunction.ca
END:VEVENT
BEGIN:VEVENT
DTSTART;TZID=UTC:20240411T090000
DTEND;TZID=UTC:20240412T160000
DTSTAMP:20260420T105604
CREATED:20240409T155102Z
LAST-MODIFIED:20240409T155103Z
UID:10000050-1712826000-1712937600@jobjunction.ca
SUMMARY:Ace the Interview
DESCRIPTION:Hybrid Workshop\n\n\n\n\n\nThis two-day workshop will give insights into the approaches and techniques that you can use to prepare for and ace your next job interview. By the end of the workshop\, participants will be given the opportunity to conduct a mock interview and receive immediate feedback. Participants are asked to bring a sample job posting to this workshop.
URL:https://jobjunction.ca/event/ace-the-interview-5/
LOCATION:Job Junction Resource Centre\, 6950 Mumford Road\, Halifax\, Canada
CATEGORIES:Hybrid Workshop
ATTACH;FMTTYPE=image/png:https://jobjunction.ca/wp-content/uploads/2024/01/Ace-The-Interview-Calendar-Graphic.png
ORGANIZER;CN="Job Junction":MAILTO:contact@jobjunction.ca
END:VEVENT
END:VCALENDAR