BEGIN:VCALENDAR
VERSION:2.0
PRODID:-//Job Junction - ECPv6.15.20//NONSGML v1.0//EN
CALSCALE:GREGORIAN
METHOD:PUBLISH
X-ORIGINAL-URL:https://jobjunction.ca
X-WR-CALDESC:Events for Job Junction
REFRESH-INTERVAL;VALUE=DURATION:PT1H
X-Robots-Tag:noindex
X-PUBLISHED-TTL:PT1H
BEGIN:VTIMEZONE
TZID:UTC
BEGIN:STANDARD
TZOFFSETFROM:+0000
TZOFFSETTO:+0000
TZNAME:UTC
DTSTART:20230101T000000
END:STANDARD
END:VTIMEZONE
BEGIN:VEVENT
DTSTART;TZID=UTC:20240325T090000
DTEND;TZID=UTC:20240426T160000
DTSTAMP:20260420T105657
CREATED:20240112T201722Z
LAST-MODIFIED:20240112T201723Z
UID:10000042-1711357200-1714147200@jobjunction.ca
SUMMARY:OWL (Older Wiser Labourforce)
DESCRIPTION:Program\, Hybrid\n\n\n\n\n\nOWL is a 5-week employment readiness / job search workshop designed to assist mature job seekers 45+ who are returning to workplace\, searching for a new job or career options.
URL:https://jobjunction.ca/event/owl-older-wiser-labourforce/
LOCATION:Job Junction Resource Centre\, 6950 Mumford Road\, Halifax\, Canada
CATEGORIES:Hybrid Workshop
ATTACH;FMTTYPE=image/png:https://jobjunction.ca/wp-content/uploads/2024/01/OWL-Calendar-Graphic.png
ORGANIZER;CN="Job Junction":MAILTO:contact@jobjunction.ca
END:VEVENT
BEGIN:VEVENT
DTSTART;TZID=UTC:20240401T083000
DTEND;TZID=UTC:20240401T163000
DTSTAMP:20260420T105657
CREATED:20240409T152918Z
LAST-MODIFIED:20240409T152919Z
UID:10000043-1711960200-1711989000@jobjunction.ca
SUMMARY:Job Junction Closed
DESCRIPTION:Holidays/Closures\n\n\n\n\n\nJob Junction is closed today\, all day.
URL:https://jobjunction.ca/event/job-junction-closed-3/
LOCATION:Job Junction Resource Centre\, 6950 Mumford Road\, Halifax\, Canada
CATEGORIES:Closures
ATTACH;FMTTYPE=image/png:https://jobjunction.ca/wp-content/uploads/2024/01/Job-Junction-Closed-Calendar-Graphic.png
ORGANIZER;CN="Job Junction":MAILTO:contact@jobjunction.ca
END:VEVENT
BEGIN:VEVENT
DTSTART;TZID=UTC:20240402T090000
DTEND;TZID=UTC:20240402T160000
DTSTAMP:20260420T105657
CREATED:20240409T153010Z
LAST-MODIFIED:20240409T153011Z
UID:10000044-1712048400-1712073600@jobjunction.ca
SUMMARY:Career Planning
DESCRIPTION:Hybrid Workshop\n\n\n\n\n\nCareer planning is an ongoing process that we all undergo as our personal vision changes throughout our lifetime. Throughout the course of this full day workshop\, you will be guided through a variety of assessments\, discussions and explorations that will help kickstart your career decision making process. Virtual participants are recommended to join Zoom from a laptop for the best possible experience.
URL:https://jobjunction.ca/event/career-planning-4/
LOCATION:Job Junction Resource Centre\, 6950 Mumford Road\, Halifax\, Canada
CATEGORIES:Hybrid Workshop
ATTACH;FMTTYPE=image/png:https://jobjunction.ca/wp-content/uploads/2024/01/Career-Planning-Calendar-Graphic.png
ORGANIZER;CN="Job Junction":MAILTO:contact@jobjunction.ca
END:VEVENT
BEGIN:VEVENT
DTSTART;TZID=UTC:20240403T130000
DTEND;TZID=UTC:20240403T140000
DTSTAMP:20260420T105657
CREATED:20240409T154835Z
LAST-MODIFIED:20240409T154836Z
UID:10000045-1712149200-1712152800@jobjunction.ca
SUMMARY:Skills Development Program
DESCRIPTION:Webinar\n\n\n\n\n\nThe SD Program provides financial assistance to eligible individuals\, helping them obtain the skills training they need to find new employment. Participants in this webinar will receive the opportunity to learn about requirements\, eligibility\, and the application process.
URL:https://jobjunction.ca/event/skills-development-program-8/
CATEGORIES:Webinar/Info Session
ATTACH;FMTTYPE=image/png:https://jobjunction.ca/wp-content/uploads/2024/01/Skills-Development-Calendar-Graphic.png
ORGANIZER;CN="Job Junction":MAILTO:contact@jobjunction.ca
END:VEVENT
BEGIN:VEVENT
DTSTART;TZID=UTC:20240404T090000
DTEND;TZID=UTC:20240405T160000
DTSTAMP:20260420T105657
CREATED:20240409T154858Z
LAST-MODIFIED:20240409T154900Z
UID:10000046-1712221200-1712332800@jobjunction.ca
SUMMARY:Hidden Job Market
DESCRIPTION:Hybrid Workshop\n\n\n\n\n\nStatistics show that only about 15% to 20% of jobs available in Nova Scotia are openly advertised. If you are struggling to break into this market\, you will want to expand your job search into the remaining 80% to 85%\, commonly referred to as the Hidden Job Market. This two-day workshop explores why the Hidden Job Market exists\, and how effective networking strategies can help you unlock those opportunities.
URL:https://jobjunction.ca/event/hidden-job-market-5/
LOCATION:Job Junction Resource Centre\, 6950 Mumford Road\, Halifax\, Canada
CATEGORIES:Hybrid Workshop
ATTACH;FMTTYPE=image/png:https://jobjunction.ca/wp-content/uploads/2024/01/Hidden-Job-Market-Calendar-Graphic.png
ORGANIZER;CN="Job Junction":MAILTO:contact@jobjunction.ca
END:VEVENT
END:VCALENDAR