BEGIN:VCALENDAR
VERSION:2.0
PRODID:-//Job Junction - ECPv6.15.20//NONSGML v1.0//EN
CALSCALE:GREGORIAN
METHOD:PUBLISH
X-ORIGINAL-URL:https://jobjunction.ca
X-WR-CALDESC:Events for Job Junction
REFRESH-INTERVAL;VALUE=DURATION:PT1H
X-Robots-Tag:noindex
X-PUBLISHED-TTL:PT1H
BEGIN:VTIMEZONE
TZID:UTC
BEGIN:STANDARD
TZOFFSETFROM:+0000
TZOFFSETTO:+0000
TZNAME:UTC
DTSTART:20230101T000000
END:STANDARD
END:VTIMEZONE
BEGIN:VEVENT
DTSTART;TZID=UTC:20240304T090000
DTEND;TZID=UTC:20240315T160000
DTSTAMP:20260420T092109
CREATED:20240112T201138Z
LAST-MODIFIED:20240112T201139Z
UID:10000040-1709542800-1710518400@jobjunction.ca
SUMMARY:LYNK (Leverage Your New Knowledge)
DESCRIPTION:Program\, Virtual\n\n\n\n\n\nGraduating from school? Considering a gap year? Worried about job prospects now that you completed your college or university degree? Make the transition from student to your career with LYNK: Leverage Your New Knowledge. \n\n\n\nOver the course of the program\, you will gain valuable skills and knowledge in: \n\n\n\n\nCareer Discovery\n\n\n\nStorytelling for Personal Branding\n\n\n\nHidden Job Market\n\n\n\nNetworking\n\n\n\nValue Based Career Design\n\n\n\nAce the interview\n\n\n\nPersonality Dimensions- Job Search Guide\n\n\n\nResume and Cover Letter
URL:https://jobjunction.ca/event/lynk-leverage-your-new-knowledge/
LOCATION:Job Junction Resource Centre\, 6950 Mumford Road\, Halifax\, Canada
CATEGORIES:Virtual
ATTACH;FMTTYPE=image/png:https://jobjunction.ca/wp-content/uploads/2024/01/LYNK-Calendar-Graphic.png
ORGANIZER;CN="Job Junction":MAILTO:contact@jobjunction.ca
END:VEVENT
BEGIN:VEVENT
DTSTART;TZID=UTC:20240311T130000
DTEND;TZID=UTC:20240311T143000
DTSTAMP:20260420T092109
CREATED:20240112T174050Z
LAST-MODIFIED:20240112T174058Z
UID:10000017-1710162000-1710167400@jobjunction.ca
SUMMARY:Cover Letter
DESCRIPTION:Hybrid Workshop\n\n\n\n\n\nYou have written a good resume. You are ready to submit then realize the application requests for a Cover Letter. Cover Letters give you an opportunity to make your best pitch on paper when applying to jobs. In this half day workshop\, we will cover how to embrace the storytelling process to set yourself apart and convince employers that you are the best candidate for the job you are applying to. Participants are asked to bring a sample job posting to this workshop.
URL:https://jobjunction.ca/event/cover-letter-copy/
LOCATION:Job Junction Resource Centre\, 6950 Mumford Road\, Halifax\, Canada
CATEGORIES:Hybrid Workshop
ATTACH;FMTTYPE=image/png:https://jobjunction.ca/wp-content/uploads/2024/01/Cover-Letter-Calendar-Graphic.png
ORGANIZER;CN="Job Junction":MAILTO:contact@jobjunction.ca
END:VEVENT
BEGIN:VEVENT
DTSTART;TZID=UTC:20240312T090000
DTEND;TZID=UTC:20240312T160000
DTSTAMP:20260420T092109
CREATED:20240112T174158Z
LAST-MODIFIED:20240112T174159Z
UID:10000018-1710234000-1710259200@jobjunction.ca
SUMMARY:Resume Writing
DESCRIPTION:Hybrid Workshop\n\n\n\n\n\nThis workshop will give you the opportunity to brush up on the trends in resume theory\, analyze job postings for better tailoring/customization and explore ways you can better market yourself to employers. After completion of this full day workshop\, participants will get the opportunity to book a 1-on-1 follow up session with a facilitator to receive individualized feedback. Participants are asked to bring a sample job posting to this workshop.
URL:https://jobjunction.ca/event/resume-writing-2/
LOCATION:Job Junction Resource Centre\, 6950 Mumford Road\, Halifax\, Canada
CATEGORIES:Hybrid Workshop
ATTACH;FMTTYPE=image/png:https://jobjunction.ca/wp-content/uploads/2024/01/Resume-Calendar-Graphic.png
ORGANIZER;CN="Job Junction":MAILTO:contact@jobjunction.ca
END:VEVENT
BEGIN:VEVENT
DTSTART;TZID=UTC:20240313T130000
DTEND;TZID=UTC:20240313T140000
DTSTAMP:20260420T092109
CREATED:20240112T200119Z
LAST-MODIFIED:20240112T200121Z
UID:10000037-1710334800-1710338400@jobjunction.ca
SUMMARY:Skills Development Program
DESCRIPTION:Webinar\n\n\n\n\n\nThe SD Program provides financial assistance to eligible individuals\, helping them obtain the skills training they need to find new employment. Participants in this webinar will receive the opportunity to learn about requirements\, eligibility\, and the application process.
URL:https://jobjunction.ca/event/skills-development-program-5/
CATEGORIES:Webinar/Info Session
ATTACH;FMTTYPE=image/png:https://jobjunction.ca/wp-content/uploads/2024/01/Skills-Development-Calendar-Graphic.png
ORGANIZER;CN="Job Junction":MAILTO:contact@jobjunction.ca
END:VEVENT
BEGIN:VEVENT
DTSTART;TZID=UTC:20240313T130000
DTEND;TZID=UTC:20240313T150000
DTSTAMP:20260420T092109
CREATED:20240112T174230Z
LAST-MODIFIED:20240112T174231Z
UID:10000019-1710334800-1710342000@jobjunction.ca
SUMMARY:WHMIS
DESCRIPTION:Hybrid Workshop\n\n\n\n\n\nThe Workplace Hazardous Materials Information System is Canada’s national workplace hazard communication standard. This half-day workshop provides information on the safe use of potentially hazardous materials and chemicals. Participants completing this workshop will receive a WHMIS certification card.
URL:https://jobjunction.ca/event/whmis-2/
LOCATION:Job Junction Resource Centre\, 6950 Mumford Road\, Halifax\, Canada
CATEGORIES:Hybrid Workshop
ATTACH;FMTTYPE=image/png:https://jobjunction.ca/wp-content/uploads/2024/01/WHMIS-Calendar-Graphic.png
ORGANIZER;CN="Job Junction":MAILTO:contact@jobjunction.ca
END:VEVENT
BEGIN:VEVENT
DTSTART;TZID=UTC:20240314T090000
DTEND;TZID=UTC:20240315T160000
DTSTAMP:20260420T092109
CREATED:20240112T174300Z
LAST-MODIFIED:20240112T174301Z
UID:10000020-1710406800-1710518400@jobjunction.ca
SUMMARY:Ace the Interview
DESCRIPTION:Hybrid Workshop\n\n\n\n\n\nThis two-day workshop will give insights into the approaches and techniques that you can use to prepare for and ace your next job interview. By the end of the workshop\, participants will be given the opportunity to conduct a mock interview and receive immediate feedback. Participants are asked to bring a sample job posting to this workshop.
URL:https://jobjunction.ca/event/ace-the-interview-3/
LOCATION:Job Junction Resource Centre\, 6950 Mumford Road\, Halifax\, Canada
CATEGORIES:Hybrid Workshop
ATTACH;FMTTYPE=image/png:https://jobjunction.ca/wp-content/uploads/2024/01/Ace-The-Interview-Calendar-Graphic.png
ORGANIZER;CN="Job Junction":MAILTO:contact@jobjunction.ca
END:VEVENT
END:VCALENDAR