BEGIN:VCALENDAR
VERSION:2.0
PRODID:-//Job Junction - ECPv6.15.20//NONSGML v1.0//EN
CALSCALE:GREGORIAN
METHOD:PUBLISH
X-ORIGINAL-URL:https://jobjunction.ca
X-WR-CALDESC:Events for Job Junction
REFRESH-INTERVAL;VALUE=DURATION:PT1H
X-Robots-Tag:noindex
X-PUBLISHED-TTL:PT1H
BEGIN:VTIMEZONE
TZID:UTC
BEGIN:STANDARD
TZOFFSETFROM:+0000
TZOFFSETTO:+0000
TZNAME:UTC
DTSTART:20230101T000000
END:STANDARD
END:VTIMEZONE
BEGIN:VEVENT
DTSTART;TZID=UTC:20240212T130000
DTEND;TZID=UTC:20240212T150000
DTSTAMP:20260420T140131
CREATED:20240112T163236Z
LAST-MODIFIED:20240112T163236Z
UID:10000005-1707742800-1707750000@jobjunction.ca
SUMMARY:WHMIS
DESCRIPTION:Hybrid Workshop\n\n\n\n\n\nThe Workplace Hazardous Materials Information System is Canada’s national workplace hazard communication standard. This half-day workshop provides information on the safe use of potentially hazardous materials and chemicals. Participants completing this workshop will receive a WHMIS certification card.
URL:https://jobjunction.ca/event/whmis/
LOCATION:Job Junction Resource Centre\, 6950 Mumford Road\, Halifax\, Canada
CATEGORIES:Hybrid Workshop
ATTACH;FMTTYPE=image/png:https://jobjunction.ca/wp-content/uploads/2024/01/WHMIS-Calendar-Graphic.png
ORGANIZER;CN="Job Junction":MAILTO:contact@jobjunction.ca
END:VEVENT
BEGIN:VEVENT
DTSTART;TZID=UTC:20240213T090000
DTEND;TZID=UTC:20240213T160000
DTSTAMP:20260420T140131
CREATED:20240112T163530Z
LAST-MODIFIED:20240112T163531Z
UID:10000006-1707814800-1707840000@jobjunction.ca
SUMMARY:Resume Writing
DESCRIPTION:Hybrid Workshop\n\n\n\n\n\nThis workshop will give you the opportunity to brush up on the trends in resume theory\, analyze job postings for better tailoring/customization and explore ways you can better market yourself to employers. After completion of this full day workshop\, participants will get the opportunity to book a 1-on-1 follow up session with a facilitator to receive individualized feedback. Participants are asked to bring a sample job posting to this workshop.
URL:https://jobjunction.ca/event/resume-writing/
LOCATION:Job Junction Resource Centre\, 6950 Mumford Road\, Halifax\, Canada
CATEGORIES:Hybrid Workshop
ATTACH;FMTTYPE=image/png:https://jobjunction.ca/wp-content/uploads/2024/01/Resume-Calendar-Graphic.png
ORGANIZER;CN="Job Junction":MAILTO:contact@jobjunction.ca
END:VEVENT
BEGIN:VEVENT
DTSTART;TZID=UTC:20240214T130000
DTEND;TZID=UTC:20240214T140000
DTSTAMP:20260420T140131
CREATED:20240112T195238Z
LAST-MODIFIED:20240112T195258Z
UID:10000033-1707915600-1707919200@jobjunction.ca
SUMMARY:Skills Development Program
DESCRIPTION:Webinar\n\n\n\n\n\nThe SD Program provides financial assistance to eligible individuals\, helping them obtain the skills training they need to find new employment. Participants in this webinar will receive the opportunity to learn about requirements\, eligibility\, and the application process.
URL:https://jobjunction.ca/event/skills-development-program-copy/
CATEGORIES:Webinar/Info Session
ATTACH;FMTTYPE=image/png:https://jobjunction.ca/wp-content/uploads/2024/01/Skills-Development-Calendar-Graphic.png
ORGANIZER;CN="Job Junction":MAILTO:contact@jobjunction.ca
END:VEVENT
BEGIN:VEVENT
DTSTART;TZID=UTC:20240214T130000
DTEND;TZID=UTC:20240214T160000
DTSTAMP:20260420T140131
CREATED:20240112T164405Z
LAST-MODIFIED:20240112T164405Z
UID:10000007-1707915600-1707926400@jobjunction.ca
SUMMARY:Transferable Skills
DESCRIPTION:Hybrid Workshop\n\n\n\n\n\nMany job seekers struggle to identify their skills\, or understanding how they can be applied to new work in different ways. This workshop will change and expand the way you think about your skills by understanding that they can come from any area or aspect of our lives.
URL:https://jobjunction.ca/event/transferable-skills/
LOCATION:Job Junction Resource Centre\, 6950 Mumford Road\, Halifax\, Canada
CATEGORIES:Hybrid Workshop
ATTACH;FMTTYPE=image/png:https://jobjunction.ca/wp-content/uploads/2024/01/Transferable-Skills-Calendar-Graphic.png
ORGANIZER;CN="Job Junction":MAILTO:contact@jobjunction.ca
END:VEVENT
BEGIN:VEVENT
DTSTART;TZID=UTC:20240215T090000
DTEND;TZID=UTC:20240216T160000
DTSTAMP:20260420T140131
CREATED:20240112T164730Z
LAST-MODIFIED:20240112T164731Z
UID:10000008-1707987600-1708099200@jobjunction.ca
SUMMARY:Ace the Interview
DESCRIPTION:Hybrid Workshop\n\n\n\n\n\nThis two-day workshop will give insights into the approaches and techniques that you can use to prepare for and ace your next job interview. By the end of the workshop\, participants will be given the opportunity to conduct a mock interview and receive immediate feedback. Participants are asked to bring a sample job posting to this workshop.
URL:https://jobjunction.ca/event/ace-the-interview/
LOCATION:Job Junction Resource Centre\, 6950 Mumford Road\, Halifax\, Canada
CATEGORIES:Hybrid Workshop
ATTACH;FMTTYPE=image/png:https://jobjunction.ca/wp-content/uploads/2024/01/Ace-The-Interview-Calendar-Graphic.png
ORGANIZER;CN="Job Junction":MAILTO:contact@jobjunction.ca
END:VEVENT
END:VCALENDAR