BEGIN:VCALENDAR
VERSION:2.0
PRODID:-//Job Junction - ECPv6.15.20//NONSGML v1.0//EN
CALSCALE:GREGORIAN
METHOD:PUBLISH
X-ORIGINAL-URL:https://jobjunction.ca
X-WR-CALDESC:Events for Job Junction
REFRESH-INTERVAL;VALUE=DURATION:PT1H
X-Robots-Tag:noindex
X-PUBLISHED-TTL:PT1H
BEGIN:VTIMEZONE
TZID:UTC
BEGIN:STANDARD
TZOFFSETFROM:+0000
TZOFFSETTO:+0000
TZNAME:UTC
DTSTART:20250101T000000
END:STANDARD
END:VTIMEZONE
BEGIN:VEVENT
DTSTART;TZID=UTC:20260512T100000
DTEND;TZID=UTC:20260513T120000
DTSTAMP:20260421T182838
CREATED:20260420T201917Z
LAST-MODIFIED:20260421T142523Z
UID:10000775-1778580000-1778673600@jobjunction.ca
SUMMARY:Resume Writing Webinar
DESCRIPTION:Webinar Workshop\n\n\n\n\n\nThe Resume Writing Webinar (2-day series May 12-13) will give you the opportunity to brush up on current trends in resume theory\, analyze job postings for better tailoring and customization\, and explore ways to better market yourself to employers. \n\n\n\nAfter completing both sessions\, you will have the opportunity to book a 1-on-1 follow-up meeting with an experienced facilitator to receive personalized feedback on your resume. \n\n\n\nParticipants are required to bring a sample job posting to the webinar. \n\n\n\nClick here to inquire about signing up.
URL:https://jobjunction.ca/event/resume-writing-webinar-3/2026-05-12/
CATEGORIES:Virtual,Webinar/Info Session
ATTACH;FMTTYPE=image/png:https://jobjunction.ca/wp-content/uploads/2024/01/Resume-Calendar-Graphic.png
ORGANIZER;CN="Job Junction":MAILTO:contact@jobjunction.ca
END:VEVENT
BEGIN:VEVENT
DTSTART;TZID=UTC:20260513T130000
DTEND;TZID=UTC:20260513T140000
DTSTAMP:20260421T182838
CREATED:20260420T202627Z
LAST-MODIFIED:20260421T142420Z
UID:10000780-1778677200-1778680800@jobjunction.ca
SUMMARY:Storytelling for Interview Success - Webinar
DESCRIPTION:Webinar\n\n\n\n\n\nThis webinar focuses on how to effectively answer behavioral and situational interview questions often phrased as “Tell me about a time when…”. You’ll learn a simple\, structured approach to prepare for and deliver strong\, impactful responses. \n\n\n\nEveryone has unique stories from their past experiences. In this interactive webinar\, you’ll learn the principles of dynamic storytelling and how to present your experiences clearly and confidently\, ensuring your answers leave a lasting impression in your next interview. \n\n\n\nClick here to inquire about signing up.
URL:https://jobjunction.ca/event/storytelling-for-interview-success-webinar/2026-05-13/
CATEGORIES:Virtual,Webinar/Info Session
END:VEVENT
BEGIN:VEVENT
DTSTART;TZID=UTC:20260513T130000
DTEND;TZID=UTC:20260513T140000
DTSTAMP:20260421T182838
CREATED:20260421T164352Z
LAST-MODIFIED:20260421T164514Z
UID:10000823-1778677200-1778680800@jobjunction.ca
SUMMARY:Skills Development Program
DESCRIPTION:Webinar\n\n\n\n\n\nThe SD Program provides financial assistance to eligible individuals\, helping them obtain the skills training they need to find new employment. Participants in this webinar will receive the opportunity to learn about requirements\, eligibility\, and the application process. \n\n\n\nClick here to inquire about signing up.
URL:https://jobjunction.ca/event/skills-development-program-52/2026-05-13/
CATEGORIES:Webinar/Info Session
ATTACH;FMTTYPE=image/png:https://jobjunction.ca/wp-content/uploads/2024/01/Skills-Development-Calendar-Graphic.png
ORGANIZER;CN="Job Junction":MAILTO:contact@jobjunction.ca
END:VEVENT
BEGIN:VEVENT
DTSTART;TZID=UTC:20260514T130000
DTEND;TZID=UTC:20260514T140000
DTSTAMP:20260421T182838
CREATED:20260420T203043Z
LAST-MODIFIED:20260421T121019Z
UID:10000779-1778763600-1778767200@jobjunction.ca
SUMMARY:Impossible Interview Questions - Webinar
DESCRIPTION:Virtual\n\n\n\n\n\nThis webinar focuses on how to confidently handle difficult and unexpected interview questions. From “What is your greatest weakness?” to “Why should we hire you?” and even questions about employment gaps\, job changes\, or illegal topics this session will help you navigate them with clarity and professionalism. \n\n\n\nHave you ever been stumped by a question or wished you could redo an answer? In this interactive webinar\, you’ll learn practical strategies to tackle tricky questions and gain the confidence to respond effectively. You’ll also have the opportunity to reflect on and discuss questions that have challenged you in the past. \n\n\n\nClick here to inquire about signing up.
URL:https://jobjunction.ca/event/impossible-interview-questions-webinar/
CATEGORIES:Virtual,Webinar/Info Session
END:VEVENT
BEGIN:VEVENT
DTSTART;TZID=UTC:20260518T083000
DTEND;TZID=UTC:20260518T163000
DTSTAMP:20260421T182838
CREATED:20260421T164636Z
LAST-MODIFIED:20260421T164639Z
UID:10000826-1779093000-1779121800@jobjunction.ca
SUMMARY:Job Junction is Closed
DESCRIPTION:Holidays/Closures\n\n\n\n\n\nJob Junction will be closed on Friday\, April 3rd and Monday\, April 6th in observance of Good Friday and Easter Monday. We will reopen Tuesday\, April 7th at 8:30 am.
URL:https://jobjunction.ca/event/job-junction-is-closed-6/
LOCATION:Job Junction Resource Centre\, 6950 Mumford Road\, Halifax\, Canada
CATEGORIES:Closures
ATTACH;FMTTYPE=image/png:https://jobjunction.ca/wp-content/uploads/2024/01/Job-Junction-Closed-Calendar-Graphic.png
ORGANIZER;CN="Job Junction":MAILTO:contact@jobjunction.ca
END:VEVENT
BEGIN:VEVENT
DTSTART;TZID=UTC:20260520T140000
DTEND;TZID=UTC:20260520T160000
DTSTAMP:20260421T182838
CREATED:20260420T130135Z
LAST-MODIFIED:20260420T130138Z
UID:10000761-1779285600-1779292800@jobjunction.ca
SUMMARY:Job Search Club
DESCRIPTION:Offsite Sessions\n\n\n\n\n\n \n\n\n\nLooking for a job? Come to the Job Junction Job Search Club at the Halifax Central Library for job-search support\, including resume and interview assistance\, networking tips\, and much more. Our certified career development practitioners will be on hand to guide you in your job search at no cost! The sessions are drop-in\, so no need to sign up!
URL:https://jobjunction.ca/event/job-search-club-34/2026-05-20/
LOCATION:Central Library\, 5440 Spring Garden Road\, Halifax\, Nova Scotia\, B3J 1E9\, Canada
CATEGORIES:Offsite Events
ORGANIZER;CN="Job Junction":MAILTO:contact@jobjunction.ca
END:VEVENT
BEGIN:VEVENT
DTSTART;TZID=UTC:20260521T100000
DTEND;TZID=UTC:20260521T110000
DTSTAMP:20260421T182838
CREATED:20260421T141945Z
LAST-MODIFIED:20260421T141947Z
UID:10000781-1779357600-1779361200@jobjunction.ca
SUMMARY:Building a Network that Works\, Webinar
DESCRIPTION:Virtual\n\n\n\n\n\nThis webinar focuses on using informational meetings as a key tool for networking success. You’ll learn what an informational meeting is\, how to request one\, and what to do before\, during\, and after to make the most of each connection. \n\n\n\nAs you begin connecting with professionals in your industry\, success goes beyond a simple introduction. In this interactive webinar\, you’ll learn how to turn conversations into meaningful relationships\, keep leads warm\, and stay connected helping you uncover opportunities in the hidden job market.
URL:https://jobjunction.ca/event/building-a-network-that-works-webinar/
CATEGORIES:Virtual,Webinar/Info Session
END:VEVENT
BEGIN:VEVENT
DTSTART;TZID=UTC:20260522T130000
DTEND;TZID=UTC:20260522T150000
DTSTAMP:20260421T182838
CREATED:20260420T130619Z
LAST-MODIFIED:20260420T200118Z
UID:10000763-1779454800-1779462000@jobjunction.ca
SUMMARY:Networking for Newcomers Part II
DESCRIPTION:Offsite Sessions\n\n\n\n\n\nBuilding connections is an important step in starting a successful career in Canada. In this first session of our two-part series\, newcomers will learn the fundamentals of networking\, including how to introduce themselves with confidence\, build meaningful professional relationships\, and access opportunities through the hidden job market. \n\n\n\nParticipants will gain practical strategies they can apply right away\, helping them take the first steps toward expanding their professional network in Canada.
URL:https://jobjunction.ca/event/networking-for-newcomers-part-ii-2/
LOCATION:Captain William Spry Public Library\, 16 Sussex Street\, Halifax\, NS\, B3R 1N9\, Canada
CATEGORIES:Offsite Events
ORGANIZER;CN="Job Junction":MAILTO:contact@jobjunction.ca
END:VEVENT
BEGIN:VEVENT
DTSTART;TZID=UTC:20260525T130000
DTEND;TZID=UTC:20260525T140000
DTSTAMP:20260421T182838
CREATED:20260420T202627Z
LAST-MODIFIED:20260421T142420Z
UID:10000801-1779714000-1779717600@jobjunction.ca
SUMMARY:Storytelling for Interview Success - Webinar
DESCRIPTION:Webinar\n\n\n\n\n\nThis webinar focuses on how to effectively answer behavioral and situational interview questions often phrased as “Tell me about a time when…”. You’ll learn a simple\, structured approach to prepare for and deliver strong\, impactful responses. \n\n\n\nEveryone has unique stories from their past experiences. In this interactive webinar\, you’ll learn the principles of dynamic storytelling and how to present your experiences clearly and confidently\, ensuring your answers leave a lasting impression in your next interview. \n\n\n\nClick here to inquire about signing up.
URL:https://jobjunction.ca/event/storytelling-for-interview-success-webinar/2026-05-25/
CATEGORIES:Virtual,Webinar/Info Session
END:VEVENT
BEGIN:VEVENT
DTSTART;TZID=UTC:20260526T090000
DTEND;TZID=UTC:20260526T160000
DTSTAMP:20260421T182838
CREATED:20260420T201917Z
LAST-MODIFIED:20260421T142523Z
UID:10000802-1779786000-1779811200@jobjunction.ca
SUMMARY:Resume Writing Webinar
DESCRIPTION:Webinar Workshop\n\n\n\n\n\nThe Resume Writing Webinar (2-day series May 12-13) will give you the opportunity to brush up on current trends in resume theory\, analyze job postings for better tailoring and customization\, and explore ways to better market yourself to employers. \n\n\n\nAfter completing both sessions\, you will have the opportunity to book a 1-on-1 follow-up meeting with an experienced facilitator to receive personalized feedback on your resume. \n\n\n\nParticipants are required to bring a sample job posting to the webinar. \n\n\n\nClick here to inquire about signing up.
URL:https://jobjunction.ca/event/resume-writing-webinar-3/2026-05-26/
CATEGORIES:Virtual,Webinar/Info Session
ATTACH;FMTTYPE=image/png:https://jobjunction.ca/wp-content/uploads/2024/01/Resume-Calendar-Graphic.png
ORGANIZER;CN="Job Junction":MAILTO:contact@jobjunction.ca
END:VEVENT
BEGIN:VEVENT
DTSTART;TZID=UTC:20260527T090000
DTEND;TZID=UTC:20260529T110000
DTSTAMP:20260421T182838
CREATED:20260420T125731Z
LAST-MODIFIED:20260421T164132Z
UID:10000809-1779872400-1780052400@jobjunction.ca
SUMMARY:Hidden Job Market\, WEBINAR
DESCRIPTION:Hybrid Workshop\n\n\n\n\n\nThe Hidden Job Market – Online Format is the same great content but in a condensed online only format.  \n\n\n\nStatistics show that only about 15% to 20% of jobs available in Nova Scotia are openly advertised. If you are struggling to break into this market\, you will want to expand your job search into the remaining 80% to 85%\, commonly referred to as the Hidden Job Market. This online workshop explores why the Hidden Job Market exists\, and how effective networking strategies can help you unlock those opportunities. In 3 sessions of 2 hours each\, you get the same content as our hybrid workshop! Check out our New HIDDEN JOB MARKET- same workshop but done in half duration\, from 12 hours over 2 days down to 6 hours over 3 days. \n\n\n\nClick here to inquire about signing up.
URL:https://jobjunction.ca/event/hidden-job-market-new-online-webinar-3/2026-05-27/
LOCATION:Job Junction Resource Centre\, 6950 Mumford Road\, Halifax\, Canada
CATEGORIES:Virtual
ATTACH;FMTTYPE=image/png:https://jobjunction.ca/wp-content/uploads/2024/01/Hidden-Job-Market-Calendar-Graphic.png
END:VEVENT
BEGIN:VEVENT
DTSTART;TZID=UTC:20260527T130000
DTEND;TZID=UTC:20260527T140000
DTSTAMP:20260421T182838
CREATED:20260421T164352Z
LAST-MODIFIED:20260421T164514Z
UID:10000824-1779886800-1779890400@jobjunction.ca
SUMMARY:Skills Development Program
DESCRIPTION:Webinar\n\n\n\n\n\nThe SD Program provides financial assistance to eligible individuals\, helping them obtain the skills training they need to find new employment. Participants in this webinar will receive the opportunity to learn about requirements\, eligibility\, and the application process. \n\n\n\nClick here to inquire about signing up.
URL:https://jobjunction.ca/event/skills-development-program-52/2026-05-27/
CATEGORIES:Webinar/Info Session
ATTACH;FMTTYPE=image/png:https://jobjunction.ca/wp-content/uploads/2024/01/Skills-Development-Calendar-Graphic.png
ORGANIZER;CN="Job Junction":MAILTO:contact@jobjunction.ca
END:VEVENT
BEGIN:VEVENT
DTSTART;TZID=UTC:20260528T130000
DTEND;TZID=UTC:20260528T140000
DTSTAMP:20260421T182838
CREATED:20260421T162647Z
LAST-MODIFIED:20260421T162650Z
UID:10000808-1779973200-1779976800@jobjunction.ca
SUMMARY:Tailor your Cover Letter\, Webinar
DESCRIPTION:Virtual\n\n\n\nhis webinar focuses on how to create targeted\, effective cover letters that align with specific job postings and stand out to employers. \n\n\n\nLearn how to move beyond generic templates by customizing your cover letter to highlight your most relevant skills\, experiences\, and achievements. In this session\, you’ll explore best practices for structuring your letter\, analyzing job postings for key details\, and communicating your value clearly and confidently. \n\n\n\n\n\nClick here to inquire about signing up.
URL:https://jobjunction.ca/event/tailor-your-cover-letter-webinar/
CATEGORIES:Virtual,Webinar/Info Session
END:VEVENT
BEGIN:VEVENT
DTSTART;TZID=UTC:20260529T130000
DTEND;TZID=UTC:20260529T140000
DTSTAMP:20260421T182838
CREATED:20260421T121504Z
LAST-MODIFIED:20260421T121611Z
UID:10000782-1780059600-1780063200@jobjunction.ca
SUMMARY:Me Incorporated: Run Your Job Search Like a CEO - Webinar
DESCRIPTION:This webinar focuses on building an effective\, structured job search strategy to help you stay organized\, productive\, and consistent. \n\n\n\nTake control of your career like a CEO. In this webinar\, you’ll learn how to create a daily and weekly job search plan\, set SMART goals\, and develop routines that drive results while also prioritizing rest and recovery for long-term success. This webinar focuses on building an effective\, structured job search strategy to help you stay organized\, productive\, and consistent. \n\n\n\nTake control of your career like a CEO. In this webinar\, you’ll learn how to create a daily and weekly job search plan\, set SMART goals\, and develop routines that drive results while also prioritizing rest and recovery for long-term success.
URL:https://jobjunction.ca/event/me-incorporated-run-your-job-search-like-a-ceo-webinar/
CATEGORIES:Virtual
END:VEVENT
BEGIN:VEVENT
DTSTART;TZID=UTC:20260601T090000
DTEND;TZID=UTC:20260601T160000
DTSTAMP:20260421T182838
CREATED:20260416T205110Z
LAST-MODIFIED:20260416T205123Z
UID:10000756-1780304400-1780329600@jobjunction.ca
SUMMARY:OWL (Older Wiser Labourforce) Program
DESCRIPTION:Program\, Hybrid\n\n\n\n\n\nOWL is a free 5-week employment readiness / job search workshop designed to assist mature job seekers ages 45+ who are searching for a new job\, returning to workplace\, or exploring their career options. The OWL program runs 4 days a week.  \n\n\n\nLearn more about how we support experience job seekers with finding meaningful employment here.  \n\n\n\nParticipants can join from anywhere in Nova Scotia with our virtual option!
URL:https://jobjunction.ca/event/owl-older-wiser-labourforce-program-3/
LOCATION:Job Junction Resource Centre\, 6950 Mumford Road\, Halifax\, Canada
CATEGORIES:Hybrid Workshop
ATTACH;FMTTYPE=image/png:https://jobjunction.ca/wp-content/uploads/2024/01/OWL-Calendar-Graphic.png
ORGANIZER;CN="Job Junction":MAILTO:contact@jobjunction.ca
END:VEVENT
BEGIN:VEVENT
DTSTART;TZID=UTC:20260701T130000
DTEND;TZID=UTC:20260701T140000
DTSTAMP:20260421T182838
CREATED:20260421T164352Z
LAST-MODIFIED:20260421T164514Z
UID:10000825-1782910800-1782914400@jobjunction.ca
SUMMARY:Skills Development Program
DESCRIPTION:Webinar\n\n\n\n\n\nThe SD Program provides financial assistance to eligible individuals\, helping them obtain the skills training they need to find new employment. Participants in this webinar will receive the opportunity to learn about requirements\, eligibility\, and the application process. \n\n\n\nClick here to inquire about signing up.
URL:https://jobjunction.ca/event/skills-development-program-52/2026-07-01/
CATEGORIES:Webinar/Info Session
ATTACH;FMTTYPE=image/png:https://jobjunction.ca/wp-content/uploads/2024/01/Skills-Development-Calendar-Graphic.png
ORGANIZER;CN="Job Junction":MAILTO:contact@jobjunction.ca
END:VEVENT
BEGIN:VEVENT
DTSTART;TZID=UTC:20261025T100000
DTEND;TZID=UTC:20261025T120000
DTSTAMP:20260421T182838
CREATED:20260220T200259Z
LAST-MODIFIED:20260318T121515Z
UID:10000799-1792922400-1792929600@jobjunction.ca
SUMMARY:Hidden Job Market - NEW Online Format
DESCRIPTION:Hybrid Workshop\n\n\n\n\n\nThe Hidden Job Market – Online Format is the same great content but in a condensed online only format.  \n\n\n\nStatistics show that only about 15% to 20% of jobs available in Nova Scotia are openly advertised. If you are struggling to break into this market\, you will want to expand your job search into the remaining 80% to 85%\, commonly referred to as the Hidden Job Market. This online workshop explores why the Hidden Job Market exists\, and how effective networking strategies can help you unlock those opportunities. In 3 sessions of 2 hours each\, you get the same content as our hybrid workshop!  \n\n\n\nClick here to inquire about signing up.
URL:https://jobjunction.ca/event/hidden-job-market-new-online-format-2/2026-10-25/
LOCATION:Job Junction Resource Centre\, 6950 Mumford Road\, Halifax\, Canada
CATEGORIES:Virtual
ATTACH;FMTTYPE=image/png:https://jobjunction.ca/wp-content/uploads/2024/01/Hidden-Job-Market-Calendar-Graphic.png
END:VEVENT
BEGIN:VEVENT
DTSTART;TZID=UTC:20270915T020000
DTEND;TZID=UTC:20270917T040000
DTSTAMP:20260421T182838
CREATED:20260420T125731Z
LAST-MODIFIED:20260421T164132Z
UID:10000818-1820973600-1821153600@jobjunction.ca
SUMMARY:Hidden Job Market\, WEBINAR
DESCRIPTION:Hybrid Workshop\n\n\n\n\n\nThe Hidden Job Market – Online Format is the same great content but in a condensed online only format.  \n\n\n\nStatistics show that only about 15% to 20% of jobs available in Nova Scotia are openly advertised. If you are struggling to break into this market\, you will want to expand your job search into the remaining 80% to 85%\, commonly referred to as the Hidden Job Market. This online workshop explores why the Hidden Job Market exists\, and how effective networking strategies can help you unlock those opportunities. In 3 sessions of 2 hours each\, you get the same content as our hybrid workshop! Check out our New HIDDEN JOB MARKET- same workshop but done in half duration\, from 12 hours over 2 days down to 6 hours over 3 days. \n\n\n\nClick here to inquire about signing up.
URL:https://jobjunction.ca/event/hidden-job-market-new-online-webinar-3/2027-09-15/
LOCATION:Job Junction Resource Centre\, 6950 Mumford Road\, Halifax\, Canada
CATEGORIES:Virtual
ATTACH;FMTTYPE=image/png:https://jobjunction.ca/wp-content/uploads/2024/01/Hidden-Job-Market-Calendar-Graphic.png
END:VEVENT
BEGIN:VEVENT
DTSTART;TZID=UTC:20280830T050000
DTEND;TZID=UTC:20280830T120000
DTSTAMP:20260421T182838
CREATED:20260421T163544Z
LAST-MODIFIED:20260421T163825Z
UID:10000816-1851224400-1851249600@jobjunction.ca
SUMMARY:Transferable Skills Webinar
DESCRIPTION:Virtual \n\n\n\n\n\nThis virtual webinar focuses on helping you identify and understand your transferable skills\, and how they can be applied across different roles and industries. \n\n\n\nMany job seekers struggle to recognize their skills or see how they can translate into new opportunities. In this session\, you’ll learn how your skills can come from all areas of your life work\, school\, and personal experiences and how to confidently communicate them to employers.
URL:https://jobjunction.ca/event/transferable-skills-webinar/2028-08-30/
CATEGORIES:Virtual,Webinar/Info Session
ATTACH;FMTTYPE=image/png:https://jobjunction.ca/wp-content/uploads/2024/01/Transferable-Skills-Calendar-Graphic.png
ORGANIZER;CN="Job Junction":MAILTO:contact@jobjunction.ca
END:VEVENT
END:VCALENDAR