BEGIN:VCALENDAR
VERSION:2.0
PRODID:-//Job Junction - ECPv6.15.20//NONSGML v1.0//EN
CALSCALE:GREGORIAN
METHOD:PUBLISH
X-ORIGINAL-URL:https://jobjunction.ca
X-WR-CALDESC:Events for Job Junction
REFRESH-INTERVAL;VALUE=DURATION:PT1H
X-Robots-Tag:noindex
X-PUBLISHED-TTL:PT1H
BEGIN:VTIMEZONE
TZID:UTC
BEGIN:STANDARD
TZOFFSETFROM:+0000
TZOFFSETTO:+0000
TZNAME:UTC
DTSTART:20270101T000000
END:STANDARD
END:VTIMEZONE
BEGIN:VEVENT
DTSTART;TZID=UTC:20280830T050000
DTEND;TZID=UTC:20280830T120000
DTSTAMP:20260423T120802
CREATED:20260421T163544Z
LAST-MODIFIED:20260421T163825Z
UID:10000816-1851224400-1851249600@jobjunction.ca
SUMMARY:Transferable Skills Webinar
DESCRIPTION:Virtual \n\n\n\n\n\nThis virtual webinar focuses on helping you identify and understand your transferable skills\, and how they can be applied across different roles and industries. \n\n\n\nMany job seekers struggle to recognize their skills or see how they can translate into new opportunities. In this session\, you’ll learn how your skills can come from all areas of your life work\, school\, and personal experiences and how to confidently communicate them to employers.
URL:https://jobjunction.ca/event/transferable-skills-webinar/2028-08-30/
CATEGORIES:Virtual,Webinar/Info Session
ATTACH;FMTTYPE=image/png:https://jobjunction.ca/wp-content/uploads/2024/01/Transferable-Skills-Calendar-Graphic.png
ORGANIZER;CN="Job Junction":MAILTO:contact@jobjunction.ca
END:VEVENT
END:VCALENDAR