BEGIN:VCALENDAR
VERSION:2.0
PRODID:-//Job Junction - ECPv6.15.20//NONSGML v1.0//EN
CALSCALE:GREGORIAN
METHOD:PUBLISH
X-ORIGINAL-URL:https://jobjunction.ca
X-WR-CALDESC:Events for Job Junction
REFRESH-INTERVAL;VALUE=DURATION:PT1H
X-Robots-Tag:noindex
X-PUBLISHED-TTL:PT1H
BEGIN:VTIMEZONE
TZID:UTC
BEGIN:STANDARD
TZOFFSETFROM:+0000
TZOFFSETTO:+0000
TZNAME:UTC
DTSTART:20250101T000000
END:STANDARD
END:VTIMEZONE
BEGIN:VEVENT
DTSTART;TZID=UTC:20260414T110000
DTEND;TZID=UTC:20260414T160000
DTSTAMP:20260420T212446
CREATED:20260420T195631Z
LAST-MODIFIED:20260420T195722Z
UID:10000795-1776164400-1776182400@jobjunction.ca
SUMMARY:NS Works Spring Job Fair
DESCRIPTION:The HRM Spring Job Fair returns April 14th and 15th\, 2026. Get the hours\, location details and more at HRMJobFair.ca. Hosted by your HRM Nova Scotia Works centres: #JobJunction #TEAMWorkCooperative and #YMCAHalifax \n\n\n\n \n\n\n\n#hiring #staff #workers #jobseekers #HR #humanresources #NovaScotia #HRM  \n\n\n\n#ASL #interpreters #onsitesupport #accessible
URL:https://jobjunction.ca/event/ns-works-spring-job-fair-2/2026-04-14/
CATEGORIES:Job Fair,Offsite Events
ATTACH;FMTTYPE=image/png:https://jobjunction.ca/wp-content/uploads/2024/10/Save-the-Dates-poster-English-scaled.png
END:VEVENT
BEGIN:VEVENT
DTSTART;TZID=UTC:20260415T110000
DTEND;TZID=UTC:20260415T160000
DTSTAMP:20260420T212446
CREATED:20260420T195631Z
LAST-MODIFIED:20260420T195722Z
UID:10000796-1776250800-1776268800@jobjunction.ca
SUMMARY:NS Works Spring Job Fair
DESCRIPTION:The HRM Spring Job Fair returns April 14th and 15th\, 2026. Get the hours\, location details and more at HRMJobFair.ca. Hosted by your HRM Nova Scotia Works centres: #JobJunction #TEAMWorkCooperative and #YMCAHalifax \n\n\n\n \n\n\n\n#hiring #staff #workers #jobseekers #HR #humanresources #NovaScotia #HRM  \n\n\n\n#ASL #interpreters #onsitesupport #accessible
URL:https://jobjunction.ca/event/ns-works-spring-job-fair-2/2026-04-15/
CATEGORIES:Job Fair,Offsite Events
ATTACH;FMTTYPE=image/png:https://jobjunction.ca/wp-content/uploads/2024/10/Save-the-Dates-poster-English-scaled.png
END:VEVENT
END:VCALENDAR