BEGIN:VCALENDAR
VERSION:2.0
PRODID:-//Job Junction - ECPv6.15.20//NONSGML v1.0//EN
CALSCALE:GREGORIAN
METHOD:PUBLISH
X-WR-CALNAME:Job Junction
X-ORIGINAL-URL:https://jobjunction.ca
X-WR-CALDESC:Events for Job Junction
REFRESH-INTERVAL;VALUE=DURATION:PT1H
X-Robots-Tag:noindex
X-PUBLISHED-TTL:PT1H
BEGIN:VTIMEZONE
TZID:UTC
BEGIN:STANDARD
TZOFFSETFROM:+0000
TZOFFSETTO:+0000
TZNAME:UTC
DTSTART:20240101T000000
END:STANDARD
END:VTIMEZONE
BEGIN:VEVENT
DTSTART;TZID=UTC:20251215T130000
DTEND;TZID=UTC:20251215T160000
DTSTAMP:20260420T154411
CREATED:20251113T183252Z
LAST-MODIFIED:20251113T183254Z
UID:10000551-1765803600-1765814400@jobjunction.ca
SUMMARY:Transferable Skills - Copy
DESCRIPTION:Hybrid Workshop\n\n\n\n\n\nMany job seekers struggle to identify their skills\, or understanding how they can be applied to new work in different ways. This workshop will change and expand the way you think about your skills by understanding that they can come from any area or aspect of our lives.
URL:https://jobjunction.ca/event/transferable-skills-copy/2025-12-15/
LOCATION:Job Junction Resource Centre\, 6950 Mumford Road\, Halifax\, Canada
CATEGORIES:Hybrid Workshop
ATTACH;FMTTYPE=image/png:https://jobjunction.ca/wp-content/uploads/2024/01/Transferable-Skills-Calendar-Graphic.png
ORGANIZER;CN="Job Junction":MAILTO:contact@jobjunction.ca
END:VEVENT
BEGIN:VEVENT
DTSTART;TZID=UTC:20251215T130000
DTEND;TZID=UTC:20251215T160000
DTSTAMP:20260420T154411
CREATED:20251216T135017Z
LAST-MODIFIED:20260130T152516Z
UID:10000564-1765803600-1765814400@jobjunction.ca
SUMMARY:Transferable Skills
DESCRIPTION:Hybrid Workshop\n\n\n\n\n\nMany job seekers struggle to identify their skills\, or understanding how they can be applied to new work in different ways. This workshop will change and expand the way you think about your skills by understanding that they can come from any area or aspect of our lives.
URL:https://jobjunction.ca/event/transferable-skills-copy-2/2025-12-15/
LOCATION:Job Junction Resource Centre\, 6950 Mumford Road\, Halifax\, Canada
CATEGORIES:Hybrid Workshop
ATTACH;FMTTYPE=image/png:https://jobjunction.ca/wp-content/uploads/2024/01/Transferable-Skills-Calendar-Graphic.png
ORGANIZER;CN="Job Junction":MAILTO:contact@jobjunction.ca
END:VEVENT
END:VCALENDAR