BEGIN:VCALENDAR
VERSION:2.0
PRODID:-//Job Junction - ECPv6.15.20//NONSGML v1.0//EN
CALSCALE:GREGORIAN
METHOD:PUBLISH
X-ORIGINAL-URL:https://jobjunction.ca
X-WR-CALDESC:Events for Job Junction
REFRESH-INTERVAL;VALUE=DURATION:PT1H
X-Robots-Tag:noindex
X-PUBLISHED-TTL:PT1H
BEGIN:VTIMEZONE
TZID:UTC
BEGIN:STANDARD
TZOFFSETFROM:+0000
TZOFFSETTO:+0000
TZNAME:UTC
DTSTART:20240101T000000
END:STANDARD
END:VTIMEZONE
BEGIN:VEVENT
DTSTART;TZID=UTC:20250701T083000
DTEND;TZID=UTC:20250701T163000
DTSTAMP:20260420T140105
CREATED:20250612T135517Z
LAST-MODIFIED:20250612T135521Z
UID:10000424-1751358600-1751387400@jobjunction.ca
SUMMARY:Canada Day - Job Junction is Closed
DESCRIPTION:Holidays/Closures\n\n\n\n\n\nJob Junction will be closed on Tuesday\, July 1st for Canada Day. We will reopen Wednesday\, July 2nd at 8:30 am.
URL:https://jobjunction.ca/event/canada-day-job-junction-is-closed/
LOCATION:Job Junction Resource Centre\, 6950 Mumford Road\, Halifax\, Canada
CATEGORIES:Closures
ATTACH;FMTTYPE=image/png:https://jobjunction.ca/wp-content/uploads/2024/01/Job-Junction-Closed-Calendar-Graphic.png
ORGANIZER;CN="Job Junction":MAILTO:contact@jobjunction.ca
END:VEVENT
END:VCALENDAR